BEGIN:VCALENDAR
VERSION:2.0
PRODID:-//wp-events-plugin.com//7.2.3.1//EN
BEGIN:VEVENT
UID:3268@mnbeer.com
DTSTART:20181005T000000Z
DTEND:20181005T010000Z
DTSTAMP:20180921T035600Z
URL:https://www.mnbeer.com/events/solar-suds/
SUMMARY:Solar &amp\; Suds
DESCRIPTION:Join All Energy Solar for our fun and educational Solar &amp\; 
 Suds events\, where we partner with local craft breweries and tap houses t
 o educate homeowners\, business owners\, and anyone who’s interested on 
 the benefits of solar energy. Over the course of an hour we’ll illustrat
 e how solar power has never been more affordable or easier to install. All
  of these events are free and open to the public.\n\nTopics to be presente
 d include:\n• Basics of a solar photovoltaic (PV) system\n• Step-by-st
 ep process to determine if solar is right for a property\n• Economic ben
 efits and financing options\n• Overview of incentives available\n• Q&a
 mp\;A\n\nJeff Wiberg will lead each event and answer questions. For additi
 onal information\, you can contact Jeff at jeff.wiberg@allenergysolar.com\
 n\nThursday\, October 4\, 2018\nHop &amp\; Barrel\n7 pm to 8 pm\nHudson\, 
 WI\nhopandbarrelbrewing.com
CATEGORIES:Breweries
LOCATION:Hop and Barrel\, 310 2nd St\, Hudson\, WI\, United States
GEO:44.9733195;-92.75643789999998
X-APPLE-STRUCTURED-LOCATION;VALUE=URI;X-ADDRESS=310 2nd St\, Hudson\, WI\, 
 United States;X-APPLE-RADIUS=100;X-TITLE=Hop and Barrel:geo:44.9733195,-92
 .75643789999998
END:VEVENT
END:VCALENDAR