BEGIN:VCALENDAR
VERSION:2.0
PRODID:-//wp-events-plugin.com//7.2.3.1//EN
BEGIN:VEVENT
UID:995@mnbeer.com
DTSTART:20141217T210000Z
DTEND:20141218T040000Z
DTSTAMP:20141215T202122Z
URL:https://www.mnbeer.com/events/sooner-or-later-belgian-style-blonde-rel
 ease-party/
SUMMARY:Sooner or Later (Belgian-Style Blonde) Release Party
DESCRIPTION:Stop by our tap room on Wednesday and treat yourself to a pint 
 of Sooner or Later our Belgian-Style Blonde and hang with the blinding mus
 icianship of the Midwest Jam Collective hosted by Minnesota’s own Mark J
 oseph.\n\nSooner or Later Tapped – 4pm\nHappy Hour $1 Off Taps – 4-6pm
 \nFree Brewery Tour - 6pm – BOOK IT\nMidwest Jam Collective: 7pm\nFood T
 ruck: Simply Steve’s\n\nThe Midwest Jame Collective:\nLed by Mark Joseph
 \, the Midwest Jam Collective is collaborating members of The Big Wu\, Woo
 kiefoot\, The Histronic\, Steez and others mixing together Funk\, Rock\, E
 DM\, Soul\, and Jam.
ATTACH;FMTTYPE=image/jpeg:https://www.mnbeer.com/wp-content/uploads/Sooner
 Later-4Pack-625x400.jpg
LOCATION:Harriet Brewing\, 3036 Minnehaha S\, Minneapolis\, MN\, 55406\, Un
 ited States
GEO:44.916678;-93.22763900000001
X-APPLE-STRUCTURED-LOCATION;VALUE=URI;X-ADDRESS=3036 Minnehaha S\, Minneapo
 lis\, MN\, 55406\, United States;X-APPLE-RADIUS=100;X-TITLE=Harriet Brewin
 g:geo:44.916678,-93.22763900000001
END:VEVENT
END:VCALENDAR