BEGIN:VCALENDAR
VERSION:2.0
PRODID:-//wp-events-plugin.com//7.2.3.1//EN
BEGIN:VEVENT
UID:701@mnbeer.com
DTSTART;VALUE=DATE:20140719
DTEND;VALUE=DATE:20140720
DTSTAMP:20140516T184847Z
URL:https://www.mnbeer.com/events/southern-minnesota-brewery-tour-2/
SUMMARY:Southern Minnesota Brewery Tour
DESCRIPTION:- Exclusive access to 5 different breweries throughout Southern
  Minnesota – More than 20 craft beer tastings – Private tours of selec
 t breweries – Round-trip transportation from the Twin Cities – Coffee 
 and pastries – Pizza buffet lunch – Pub-style dinner – Take-home Get
 Knit Pint Glass – Trivia and giveaways throughout the day – Friendly G
 etKnit staff on-site to guide you through the day - \nFor more information
 : \nhttps://getknitevents.com/public-events/southern-brew-tour/
ATTACH;FMTTYPE=image/jpeg:https://www.mnbeer.com/wp-content/uploads/safe_i
 mage1.jpg
CATEGORIES:Tours
END:VEVENT
END:VCALENDAR