BEGIN:VCALENDAR
VERSION:2.0
PRODID:-//wp-events-plugin.com//7.2.3.1//EN
BEGIN:VEVENT
UID:1837@mnbeer.com
DTSTART:20160617T210000Z
DTEND:20160618T040000Z
DTSTAMP:20160606T163305Z
URL:https://www.mnbeer.com/events/spudfest-release-party/
SUMMARY:Spudfest Release Party
DESCRIPTION:
ATTACH;FMTTYPE=image/jpeg:https://www.mnbeer.com/wp-content/uploads/lbc_sp
 udfest_2016_sm.jpg
CATEGORIES:Beer Release
LOCATION:Lupulin Brewing Company\, 570 Humboldt Drive\, Suite 107\, Big Lak
 e\, MN\, 55309\, United States
GEO:45.3331421;-93.73350619999997
X-APPLE-STRUCTURED-LOCATION;VALUE=URI;X-ADDRESS=570 Humboldt Drive\, Suite 
 107\, Big Lake\, MN\, 55309\, United States;X-APPLE-RADIUS=100;X-TITLE=Lup
 ulin Brewing Company:geo:45.3331421,-93.73350619999997
END:VEVENT
END:VCALENDAR