BEGIN:VCALENDAR
VERSION:2.0
PRODID:-//wp-events-plugin.com//7.2.3.1//EN
BEGIN:VEVENT
UID:1924@mnbeer.com
DTSTART:20160910T190000Z
DTEND:20160910T230000Z
DTSTAMP:20160802T024233Z
URL:https://www.mnbeer.com/events/st-marys-craft-beer-festival-2/
SUMMARY:St. Mary's Craft Beer Festival
DESCRIPTION:St. Mary's Craft Beer Festival will be held at:\n\nThe Winstock
  Music Festival grounds \n3233 230th St. \nWinsted\, MN 55395\n\nGates ope
 n at 2 p.m.\nBeer/Wine/Spirit sampling from 2 p.m. to 6 p.m.\n\nEntertainm
 ent:\nHammerschlagen Game\nBean Bag contest\nLive music\nOther TBD\n\nThe 
 St. Mary's Craft Beer Festival supports St. Mary's Care Center which is a 
 not for profit 65 bed long and short term care facility located in Winsted
 . This festival is an important part of the fund raising efforts for St. M
 ary's and generates revenue to help support the work they do.\n\nAttendees
  will be able to sample beer and wine offerings from 25 local and national
  craft breweries\; you will be able to sample their offerings in a commemo
 rative tasting mug in 2 oz. samples. Educational information on various cr
 afting topics will also be available during the festival. Music and food (
 available for purchase) will be on-site and available to attendees.\n\nGen
 eral Admission pre-sale tickets are $25 through August 1\, 2015 and at the
  gate the day of the event for $35. There are also Designated Driver admis
 sion tickets are $10 this permits an attendee access to the festival\, the
 y also get a commemorative tasting mug however designated drivers may not 
 sample any beer or wine.\n\nPlease visit our website for tickets and more 
 information: stmarysbrewfest.com
ATTACH;FMTTYPE=image/jpeg:https://www.mnbeer.com/wp-content/uploads/300x25
 0_BuyTickets.jpg
CATEGORIES:Beer Festival
LOCATION:The Winstock Music Festival grounds\, 3233 230th St.\, Winsted\, M
 N\, 55395\, United States
GEO:44.9492079;-94.0578954
X-APPLE-STRUCTURED-LOCATION;VALUE=URI;X-ADDRESS=3233 230th St.\, Winsted\, 
 MN\, 55395\, United States;X-APPLE-RADIUS=100;X-TITLE=The Winstock Music F
 estival grounds:geo:44.9492079,-94.0578954
END:VEVENT
END:VCALENDAR