BEGIN:VCALENDAR
VERSION:2.0
PRODID:-//wp-events-plugin.com//7.2.3.1//EN
BEGIN:VEVENT
UID:3453@mnbeer.com
DTSTART:20190315T170000Z
DTEND:20190317T050000Z
DTSTAMP:20190304T135649Z
URL:https://www.mnbeer.com/events/st-patricks-revelry-at-finnegans/
SUMMARY:St. Patrick's Revelry at FINNEGANS
DESCRIPTION:Join us as we celebrate St. Patrick's Day and our first anniver
 sary with a party-filled weekend with live music and new FINNEGANS beer re
 leases at the taproom!\n\nHours:\nFriday\, March 15: 12pm-12am\nSaturday\,
  March 16: 11am-12am\nSunday\, March 17: 9am-12am\n\nLive Music &amp\; Ent
 ertainment\nMarch 15:\n5:30PM  Rattle &amp\; Hum \n8:30PM  Wailing Loons\n
 \nMarch 16th:\n7:00PM The Northerly Gales &amp\; Brian Boru Irish Pipe Ban
 d \n\nMarch 17th:\n10:00AM Kegs and Eggs w/ The Current's Morning Show fea
 turing The Belfast Cowboys\n4:30PM Tom Dahill &amp\; Ginny Johnson\n6:30PM
  Wild Rose Cloggers &amp\; Brian Boru Irish Pipe Band \n7:30PM First Dates
  Music\n\nAnniversary Beer Releases\n15th: Jacqued Up Double IPA\n16th: Ge
 orge Lager &amp\; Blueberry Lager\n17th: Firsties Imperial Irish Ale\n\nFo
 r a small $10 purchase receive a FINNEGANS taproom anniversary glass with 
 a choice of any beer fill! (Barrel aged beers are not included)\n\nMake it
  a Weekend!\nStay at the Elliot Park Hotel\, Autograph Collection (next do
 or) and make it a weekend. Visit our St. Patrick's Revelry page on website
  for special rate code.\n\nFood\nFish and Chips from Elliot Park Hotel\, A
 utograph Collection served all day Friday through Sunday under the outdoor
  tent PLUS we'll have The Purple People Feeder food truck on site Saturday
  as well. \n\nWEBSITE: finnegans.org/beer/stpatricksrevelry/
ATTACH;FMTTYPE=image/jpeg:https://www.mnbeer.com/wp-content/uploads/Screen
 -Shot-2019-03-01-at-5.04.33-PM.png
CATEGORIES:Breweries
LOCATION:FINNEGANS Brew Co.\, 817 S 5th Ave\, Minneapolis\, MN\, 55404\, Un
 ited States
X-APPLE-STRUCTURED-LOCATION;VALUE=URI;X-ADDRESS=817 S 5th Ave\, Minneapolis
 \, MN\, 55404\, United States;X-APPLE-RADIUS=100;X-TITLE=FINNEGANS Brew Co
 .:geo:0,0
END:VEVENT
END:VCALENDAR