BEGIN:VCALENDAR
VERSION:2.0
PRODID:-//wp-events-plugin.com//7.2.3.1//EN
BEGIN:VEVENT
UID:1920@mnbeer.com
DTSTART:20160916T210000Z
DTEND:20160918T220000Z
DTSTAMP:20160726T001134Z
URL:https://www.mnbeer.com/events/st-paul-oktoberfest-4/
SUMMARY:St. Paul Oktoberfest
DESCRIPTION:Ozapft is! It's tapped!\n\nThis September 16-18\, you can enjoy
  all of our tapped beers at the 16th Annual Saint Paul Oktoberfest\, right
  in the heart of downtown in Rice Park!\n\nEat the wurst\, drink the best\
 , and enjoy the centuries-old German tradition with bed races\, carriage r
 ides\, polka\, and\, of course\, beer and games! \n\nCast your vote for yo
 ur favorite Oktoberfest beer made by a local craft brewer in the Kaiser's 
 Choice Award. \n\nAdmission is FREE!\n\nSaint Paul Oktoberfest\n\nFriday\,
  September 16 4-10pm \nSaturday\, September 17 10am-10pm\nSunday\, Septemb
 er 18 10am-5pm\n\nRice Park \n109 4th St. W. \nSaint Paul\, MN 55102\n\nht
 tps://www.facebook.com/SaintPaulOktoberfest/?fref=ts\n
ATTACH;FMTTYPE=image/jpeg:https://www.mnbeer.com/wp-content/uploads/0.-SPO
 k-Logo.jpg
CATEGORIES:Beer Festival
LOCATION:Rice Park\, 109 4th St. W.\, Saint Paul\, Minnesota\, 55102\, Unit
 ed States
GEO:44.9441651;-93.09771369999999
X-APPLE-STRUCTURED-LOCATION;VALUE=URI;X-ADDRESS=109 4th St. W.\, Saint Paul
 \, Minnesota\, 55102\, United States;X-APPLE-RADIUS=100;X-TITLE=Rice Park:
 geo:44.9441651,-93.09771369999999
END:VEVENT
END:VCALENDAR