BEGIN:VCALENDAR
VERSION:2.0
PRODID:-//wp-events-plugin.com//7.2.3.1//EN
BEGIN:VEVENT
UID:976@mnbeer.com
DTSTART:20141213T220000Z
DTEND:20141214T050000Z
DTSTAMP:20141211T091208Z
URL:https://www.mnbeer.com/events/st-paul-santacrawl/
SUMMARY:St. Paul SantaCrawl
DESCRIPTION:Bring your jolly old self out to St. Paul for an evening of dri
 nking with St. Nick. If history repeats itself\, look for drink specials\,
  live reindeer\, carol-oke\, BINGO and other things that jingle. Santa’s
  party bu… er sleighs will be hitting a ton of St. Paul bars for your im
 bibing pleasure. More info at stpaulsantacrawl.com
END:VEVENT
END:VCALENDAR