BEGIN:VCALENDAR
VERSION:2.0
PRODID:-//wp-events-plugin.com//7.2.3.1//EN
BEGIN:VEVENT
UID:3232@mnbeer.com
DTSTART:20180609T190000Z
DTEND:20180609T220000Z
DTSTAMP:20180607T133740Z
URL:https://www.mnbeer.com/events/st-paul-summer-beer-fest-3/
SUMMARY:St Paul Summer Beer Fest
DESCRIPTION:St. Paul's favorite beer festival dedicated to craft beers! St.
  Paul Summer Beer Fest will take place Saturday\, June 9th\, 2018 from 2-5
 pm (early admission at 1pm) at the MN State Fairgrounds - International Ba
 zaar in beautiful St. Paul.\n\nThis outdoor craft beer festival will featu
 re sampling from over 100 breweries in a commemorative tasting glass\, liv
 e music\, tasty food\, educational seminars\, a silent auction benefiting 
 the YMCA of St. Paul\, and the fun atmosphere of MN State Fairgrounds.
ATTACH;FMTTYPE=image/jpeg:https://www.mnbeer.com/wp-content/uploads/summer
 -bf.png
CATEGORIES:Beer Festival
LOCATION:MN Fairgrounds-International Bazaar\, Judson and Underwood\, Falco
 n Heights\, MN\, 55108\, United States
GEO:44.9785654;-93.17052749999999
X-APPLE-STRUCTURED-LOCATION;VALUE=URI;X-ADDRESS=Judson and Underwood\, Falc
 on Heights\, MN\, 55108\, United States;X-APPLE-RADIUS=100;X-TITLE=MN Fair
 grounds-International Bazaar:geo:44.9785654,-93.17052749999999
END:VEVENT
END:VCALENDAR