BEGIN:VCALENDAR
VERSION:2.0
PRODID:-//wp-events-plugin.com//7.2.3.1//EN
BEGIN:VEVENT
UID:1053@mnbeer.com
DTSTART;VALUE=DATE:20150209
DTEND;VALUE=DATE:20150216
DTSTAMP:20150113T214229Z
URL:https://www.mnbeer.com/events/stanleys-imperial-stout-week/
SUMMARY:Stanley's Imperial Stout Week
DESCRIPTION:We will be donating a $1 a stout the entire week to People Serv
 ing People.\n13' Goose Island Bourbon County Stout\n\n14' Goose Island Bou
 rbon County Stout\nGoose Island The Muddy\nDeschutes Black Butte 26\n14' D
 eschutes Abyss\n12' Brooklyn Black Chocolate\nGreat Divide Oak Aged Yeti\n
 Weyerbacher Hershey Ale\nFounders Imperial Stout\nFulton Worthy Adversary\
 n
CATEGORIES:Bars/Restaurants,Beer Festival
LOCATION:Stanley's Northeast Bar Room\, 2500 University Avenue Northeast\, 
 Minneapolis\, MN\, United States
GEO:45.0135421;-93.2632635
X-APPLE-STRUCTURED-LOCATION;VALUE=URI;X-ADDRESS=2500 University Avenue Nort
 heast\, Minneapolis\, MN\, United States;X-APPLE-RADIUS=100;X-TITLE=Stanle
 y's Northeast Bar Room:geo:45.0135421,-93.2632635
END:VEVENT
END:VCALENDAR