BEGIN:VCALENDAR
VERSION:2.0
PRODID:-//wp-events-plugin.com//7.2.3.1//EN
BEGIN:VEVENT
UID:3241@mnbeer.com
DTSTART:20180724T230000Z
DTEND:20180725T010000Z
DTSTAMP:20180614T190933Z
URL:https://www.mnbeer.com/events/stencil-downtown-st-paul-storm-drains-ta
 proom-outing-at-tin-whiskers-brewing-2/
SUMMARY:Stencil downtown St. Paul storm drains + taproom outing at Tin Whis
 kers Brewing
DESCRIPTION:Join us on July 17\, from 6-8pm for some stenciling and a beer!
  After a brief introduction and presentation about runoff pollution at the
  brewery from Friends of the Mississippi River staff\, we'll head out to t
 he nearby downtown streets to stencil storm drains. Volunteers also distri
 bute educational door hangers to nearby homes and businesses.\nParticipant
 s should be prepared to walk approximately one mile while completing their
  mapped stenciling route.\nAfter the stenciling activity\, we'll reconvene
  back at the taproom to enjoy a pint or a flight and learn more about Tin 
 Whiskers Brewing Company!\nTo learn more and register\, visit https://fmr.
 org/events/2018/07/17/stencil-downtown-st-paul-storm-drains-taproom-outing
 -tin-whiskers-brewing
CATEGORIES:Breweries
LOCATION:Tin Whiskers Brewing\, 125 9th St E\, St. Paul\, Minnesota\, 55101
 \, United States
GEO:44.9508972;-93.09358099999997
X-APPLE-STRUCTURED-LOCATION;VALUE=URI;X-ADDRESS=125 9th St E\, St. Paul\, M
 innesota\, 55101\, United States;X-APPLE-RADIUS=100;X-TITLE=Tin Whiskers B
 rewing:geo:44.9508972,-93.09358099999997
END:VEVENT
END:VCALENDAR