BEGIN:VCALENDAR
VERSION:2.0
PRODID:-//wp-events-plugin.com//7.2.3.1//EN
BEGIN:VEVENT
UID:1914@mnbeer.com
DTSTART:20160811T230000Z
DTEND:20160812T003000Z
DTSTAMP:20160716T174331Z
URL:https://www.mnbeer.com/events/stencil-st-paul-storm-drains-taproom-out
 ing-at-bad-weather-brewing/
SUMMARY:Stencil St. Paul storm drains + taproom outing at Bad Weather Brewi
 ng
DESCRIPTION:Join Friends of the Mississippi River and Bad Weather Brewing C
 ompany for this St. Paul storm drain stenciling outing. We will meet at Ba
 d Weather Brewery to begin with a brief introduction and presentation abou
 t run-off pollution and proper stenciling techniques from FMR staff. Then 
 we will head out to the nearby downtown streets for the stenciling activit
 y. Armed with spray paint\, a stencil and traffic cones (courtesy of St. P
 aul Public Works) we'll stencil "Keep 'em Clean\, Drains to River" next to
  storm drains. Volunteers will also distribute educational door hangers to
  nearby homes and businesses\, creating a visual connection between the ne
 wly stenciled drains and local water quality\, as well as what they can do
  in their home and yard to help protect our local waters. \n\nAfter the st
 enciling activity\, we'll reconvene in the taproom to enjoy a pint and lea
 rn more about Bad Weather Brewing!\n\nPlease note\, advanced registration 
 is required. To sign-up pleas visit: http://fmr.org/events/2016/08/11/sten
 cil-bad-weather-brewing
ATTACH;FMTTYPE=image/jpeg:https://www.mnbeer.com/wp-content/uploads/201138
 13722_7cb88e2fa2_z.jpg
CATEGORIES:Education
LOCATION:Bad Weather Brewing Company\, 414 7th St W\, St. Paul\, MN\, 55102
 \, United States
GEO:44.93893509999999;-93.11019950000002
X-APPLE-STRUCTURED-LOCATION;VALUE=URI;X-ADDRESS=414 7th St W\, St. Paul\, M
 N\, 55102\, United States;X-APPLE-RADIUS=100;X-TITLE=Bad Weather Brewing C
 ompany:geo:44.93893509999999,-93.11019950000002
END:VEVENT
END:VCALENDAR