BEGIN:VCALENDAR
VERSION:2.0
PRODID:-//wp-events-plugin.com//7.2.3.1//EN
BEGIN:VEVENT
UID:997@mnbeer.com
DTSTART:20141220T190000Z
DTEND:20141221T000000Z
DTSTAMP:20141215T202159Z
URL:https://www.mnbeer.com/events/stir-crazy-beer-bash/
SUMMARY:Stir Crazy Beer Bash
DESCRIPTION:NWP &amp\; Indeed Brewing Present- Stir Crazy Beer Bash w/ The 
 High Crimes!\n\nWill Indeed Stir Crazy Winter Warmer stand up to a day col
 d day outdoors? We think so!\nJoin us for a day of winter games\, cool mus
 ic\, and hot bonfires! \nOn tap...Stir Crazy Winter Warmer\, Day Tripper a
 nd Midnight Ryder\, plus a super secret\, extra special Firkin! We'll have
  hot pokers to dip into your pint for a new way to experience your favorit
 e beers from Indeed!\n\nStay warm by staying active with free bocce all da
 y!\n\nMusic starts at 4pm with High Crimes &amp\; TBA!\n\nFREE/ 21+\n
ATTACH;FMTTYPE=image/jpeg:https://www.mnbeer.com/wp-content/uploads/StirCr
 azy_Poster_JPGSMALL.jpg
CATEGORIES:Bars/Restaurants
LOCATION:Nomad World Pub\, 501 Cedar Avenue South\, Minneapolis\, MN\, 5545
 4\, United States
GEO:44.9687046;-93.24707189999998
X-APPLE-STRUCTURED-LOCATION;VALUE=URI;X-ADDRESS=501 Cedar Avenue South\, Mi
 nneapolis\, MN\, 55454\, United States;X-APPLE-RADIUS=100;X-TITLE=Nomad Wo
 rld Pub:geo:44.9687046,-93.24707189999998
END:VEVENT
END:VCALENDAR