BEGIN:VCALENDAR
VERSION:2.0
PRODID:-//wp-events-plugin.com//7.2.3.1//EN
BEGIN:VEVENT
UID:829@mnbeer.com
DTSTART:20140924T220000Z
DTEND:20140925T043000Z
DTSTAMP:20140916T005021Z
URL:https://www.mnbeer.com/events/stout-bout-2014/
SUMMARY:Stout Bout 2014
DESCRIPTION:EIGHT STOUTS - TWO FLIGHTS - ONE HELLUVA GOOD TIME\nThis is a b
 rew battle worth drinking for. We’ll be serving two flights – one of M
 innesota-based brews and the second of Michigan\, Wisconsin and Illinois b
 rews. Your palette will determine which flight comes out on top. \n\n// Fl
 ight 1 features Fulton Worthy Adversary\, Indeed Rum King\, Surly Darkness
  and Sociable Cider Werks Everblack. \n// Flight 2 spotlights New Holland 
 Night Tripper from Michigan\, Goose Island BCBS from Illinois\, Bell’s E
 xpedition from Michigan and Central Waters BBS from Wisconsin.\n\nFlights 
 are $15 each and beers will be available for individual purchase. These be
 ers are all gems that beer geeks will travel for. Bottoms up\, beer lovers
 .\n
CATEGORIES:Beer Release
LOCATION:Bryant Lake Bowl\, 810 West Lake Street\, Minneapolis\, MN\, Unite
 d States
GEO:44.9484837;-93.2901195
X-APPLE-STRUCTURED-LOCATION;VALUE=URI;X-ADDRESS=810 West Lake Street\, Minn
 eapolis\, MN\, United States;X-APPLE-RADIUS=100;X-TITLE=Bryant Lake Bowl:g
 eo:44.9484837,-93.2901195
END:VEVENT
END:VCALENDAR