BEGIN:VCALENDAR
VERSION:2.0
PRODID:-//wp-events-plugin.com//7.2.3.1//EN
BEGIN:VEVENT
UID:3179@mnbeer.com
DTSTART:20180714T180000Z
DTEND:20180714T220000Z
DTSTAMP:20180514T062300Z
URL:https://www.mnbeer.com/events/succulent-bar-make-take-event/
SUMMARY:Succulent Bar Make &amp\; Take Event
DESCRIPTION:Join Succ it up Buttercup at Big Wood Brewery for a succulent b
 ar make and take event!\n\nThis is a come as you please event. Come any ti
 me between 1 pm to 5 pm to create your very own unique\, one of a kind suc
 culent creation! We supply hundreds of containers from vintage to modern a
 nd a whole bunch of beautiful succulents! If you have your own container y
 ou would like to use\, feel free to bring it and we will take $1 off your 
 total.\n\nPrices are between $15- $30 (cash or credit) depending on how ma
 ny succulents you choose. Price includes everything you need to plant and 
 decorate your arrangement!\n\nHope to see you there!
ATTACH;FMTTYPE=image/jpeg:https://www.mnbeer.com/wp-content/uploads/succ_i
 t_up_buttercup.jpg
CATEGORIES:Art,Brewpubs,Misc.
LOCATION:Big Wood Brewery\, 2222 4th Street\, White Bear Lake\, Minnesota\,
  55110\, United States
GEO:45.0853084;-93.00678719999996
X-APPLE-STRUCTURED-LOCATION;VALUE=URI;X-ADDRESS=2222 4th Street\, White Bea
 r Lake\, Minnesota\, 55110\, United States;X-APPLE-RADIUS=100;X-TITLE=Big 
 Wood Brewery:geo:45.0853084,-93.00678719999996
END:VEVENT
END:VCALENDAR