BEGIN:VCALENDAR
VERSION:2.0
PRODID:-//wp-events-plugin.com//7.2.3.1//EN
BEGIN:VEVENT
UID:704@mnbeer.com
DTSTART:20140621T180000Z
DTEND:20140622T030000Z
DTSTAMP:20140521T212526Z
URL:https://www.mnbeer.com/events/summer-beer-party/
SUMMARY:Summer Beer Party
DESCRIPTION:We're throwing a summer kickoff party featuring summer beers fr
 om local breweries! Come hang out with local brewers and enjoy some season
 als\, specialties\, and all around excellent brews for the dog days of sum
 mer.\n\nIndoors and Outdoors : Rain or Shine!\n\nFeaturing: Big Wood Brewe
 ry\, Lake Monster Brewing\, Flat Earth Brewing Company\, Brau Brothers Bre
 wing Co. and Excelsior Brewing Company!\n\nLive Music from: Quasimofo Jazz
  Trio
CATEGORIES:Bars/Restaurants
LOCATION:Zeke's Unchained Animal\, 3508 E. Lake St\, Minneapolis\, Minnesot
 a\, 55406\, United States
GEO:44.9486591;-93.22111419999999
X-APPLE-STRUCTURED-LOCATION;VALUE=URI;X-ADDRESS=3508 E. Lake St\, Minneapol
 is\, Minnesota\, 55406\, United States;X-APPLE-RADIUS=100;X-TITLE=Zeke's U
 nchained Animal:geo:44.9486591,-93.22111419999999
END:VEVENT
END:VCALENDAR