BEGIN:VCALENDAR
VERSION:2.0
PRODID:-//wp-events-plugin.com//7.2.3.1//EN
BEGIN:VEVENT
UID:791@mnbeer.com
DTSTART:20140815T000000Z
DTEND:20140815T030000Z
DTSTAMP:20140806T035050Z
URL:https://www.mnbeer.com/events/summer-feast-soiree-with-chef-thomas-boe
 mer-chef-andrew-gerson/
SUMMARY:Summer Feast &amp\; Soiree with Chef Thomas Boemer &amp\; Chef Andr
 ew Gerson
DESCRIPTION:--LOCATION TO BE ANNOUNCED DAY-OF--\n\nThis pop-up dinner party
 \, hosted in a unique\, non-traditional location\, embodies The Mash. Team
 ing up with Chef Thomas Boemer\, we’re bringing together some of our fav
 orite people to create a memorable meal and moment.\n\nMore info: http://b
 rooklynbrewerymash.com/twin-cities/summer-feast-and-soiree
ATTACH;FMTTYPE=image/jpeg:https://www.mnbeer.com/wp-content/uploads/Mash-L
 ogo2.png
CATEGORIES:Beer Dinner
END:VEVENT
END:VCALENDAR