BEGIN:VCALENDAR
VERSION:2.0
PRODID:-//wp-events-plugin.com//7.2.3.1//EN
BEGIN:VEVENT
UID:1923@mnbeer.com
DTSTART:20160910T170000Z
DTEND:20160911T010000Z
DTSTAMP:20160729T174834Z
URL:https://www.mnbeer.com/events/summit-backyard-bash-2/
SUMMARY:Summit Backyard Bash
DESCRIPTION:Featuring Bob Mould\, Bully\, deM atlaS\, Bad Bad Hats\, Apollo
  Cobra\, Nooky Jones\, and Hotpants DJs\, with food trucks and specialty b
 eers celebrating Summit's 30th anniversary.
CATEGORIES:Music
LOCATION:Summit Brewing Company\, 910 Montreal Circle\, St. Paul\, MN\, Uni
 ted States
GEO:44.9144412;-93.140537
X-APPLE-STRUCTURED-LOCATION;VALUE=URI;X-ADDRESS=910 Montreal Circle\, St. P
 aul\, MN\, United States;X-APPLE-RADIUS=100;X-TITLE=Summit Brewing Company
 :geo:44.9144412,-93.140537
END:VEVENT
END:VCALENDAR