BEGIN:VCALENDAR
VERSION:2.0
PRODID:-//wp-events-plugin.com//7.2.3.1//EN
BEGIN:VEVENT
UID:1108@mnbeer.com
DTSTART:20150201T170000Z
DTEND:20150313T040000Z
DTSTAMP:20150218T191145Z
URL:https://www.mnbeer.com/events/summit-brewing-co-countdown-to-st-patric
 ks-day/
SUMMARY:Summit Brewing Co. Countdown to St.Patrick's Day
DESCRIPTION:The countdown to St. Patrick’s Day is on! Enjoy $4 Summit pin
 ts all day and all night at Halftime Rec now through Thursday\, March 12th
 .
CATEGORIES:Bars/Restaurants
LOCATION:Halftime Rec\, 1013 Front Avenue\, St. Paul\, Minnesota\, 55103\, 
 United States
GEO:44.97042159999999;-93.14295329999999
X-APPLE-STRUCTURED-LOCATION;VALUE=URI;X-ADDRESS=1013 Front Avenue\, St. Pau
 l\, Minnesota\, 55103\, United States;X-APPLE-RADIUS=100;X-TITLE=Halftime 
 Rec:geo:44.97042159999999,-93.14295329999999
END:VEVENT
END:VCALENDAR