BEGIN:VCALENDAR
VERSION:2.0
PRODID:-//wp-events-plugin.com//7.2.3.1//EN
BEGIN:VEVENT
UID:998@mnbeer.com
DTSTART:20141201T160000Z
DTEND:20141231T070000Z
DTSTAMP:20141215T202113Z
URL:https://www.mnbeer.com/events/summit-brewing-co-december-tap-invasion/
SUMMARY:Summit Brewing Co. December Tap Invasion
DESCRIPTION:Check out the Summit Brewing Company December Tap Invasion at B
 illy's on Grand all month long.\n\n$4 Summit pints of EPA\, Sága IPA\, Wi
 nter Ale and Oatmeal Stout on Nitro all day\, all night\, all December!\n\
 nPlus create your own Summit special by mixing any of your Summit favorite
 s! \n
CATEGORIES:Bars/Restaurants
LOCATION:Billy's on Grand\, St Paul\, 857 Grand Ave\, St Paul\, MN\, United
  States
GEO:44.940273;-93.135948
X-APPLE-STRUCTURED-LOCATION;VALUE=URI;X-ADDRESS=857 Grand Ave\, St Paul\, M
 N\, United States;X-APPLE-RADIUS=100;X-TITLE=Billy's on Grand\, St Paul:ge
 o:44.940273,-93.135948
END:VEVENT
END:VCALENDAR