BEGIN:VCALENDAR
VERSION:2.0
PRODID:-//wp-events-plugin.com//7.2.3.1//EN
BEGIN:VEVENT
UID:1159@mnbeer.com
DTSTART:20150416T210000Z
DTEND:20150416T230000Z
DTSTAMP:20150318T052223Z
URL:https://www.mnbeer.com/events/summit-brewing-co-invades-green-mill-st-
 paul/
SUMMARY:Summit Brewing Co. Invades Green Mill St.Paul
DESCRIPTION:Summit Brewing Co. is invading Green Mill St. Paul! Meet Summit
  Founder Stutrud on Thursday\, April 16 from 4:00 to 6:00pm and enjoy $3.5
 0 Summit taps! Celebrating one of Summit’s longest tap accounts in St. P
 aul!\n\nFeaturing the latest new brews from Summit\, Hopvale Organic and U
 nchained #18 Hop Silo cask with citra.\n\n \nThe first 48 people to purcha
 se Summit will receive a free Summit Pints Glasses.\n
CATEGORIES:Breweries
LOCATION:Green Mill\, 57 Hamline Avenue South\, St. Paul \, Minnesota\, 551
 05\, United States
GEO:44.9396701;-93.1569983
X-APPLE-STRUCTURED-LOCATION;VALUE=URI;X-ADDRESS=57 Hamline Avenue South\, S
 t. Paul \, Minnesota\, 55105\, United States;X-APPLE-RADIUS=100;X-TITLE=Gr
 een Mill:geo:44.9396701,-93.1569983
END:VEVENT
END:VCALENDAR