BEGIN:VCALENDAR
VERSION:2.0
PRODID:-//wp-events-plugin.com//7.2.3.1//EN
BEGIN:VEVENT
UID:1107@mnbeer.com
DTSTART:20150201T120000Z
DTEND:20150228T070000Z
DTSTAMP:20150218T191136Z
URL:https://www.mnbeer.com/events/summit-brewing-company-celebration-month
 /
SUMMARY:Summit Brewing Company Celebration Month
DESCRIPTION:February is Summit Brewing Company Celebration Month!\n\nEnjoy 
 16oz. Summit pints for $3.75 all day\, all month long at The Liffey! Featu
 ring Summit Extra Pale Ale\, Saga IPA\, and a seasonal.\n
CATEGORIES:Bars/Restaurants
LOCATION:The Liffey\, 175 7th Street\, West St. Paul\, Minnesota\, 55102\, 
 United States
GEO:44.9444719;-93.10335090000001
X-APPLE-STRUCTURED-LOCATION;VALUE=URI;X-ADDRESS=175 7th Street\, West St. P
 aul\, Minnesota\, 55102\, United States;X-APPLE-RADIUS=100;X-TITLE=The Lif
 fey:geo:44.9444719,-93.10335090000001
END:VEVENT
END:VCALENDAR