BEGIN:VCALENDAR
VERSION:2.0
PRODID:-//wp-events-plugin.com//7.2.3.1//EN
BEGIN:VEVENT
UID:693@mnbeer.com
DTSTART;VALUE=DATE:20140614
DTEND;VALUE=DATE:20140615
DTSTAMP:20140512T181747Z
URL:https://www.mnbeer.com/events/summit-off-the-rails-green-line-pub-craw
 l/
SUMMARY:Summit "Off the Rails" Green Line Pub Crawl
DESCRIPTION:Take advantage of the free fare on the first day of Green Line 
 LRT service and join Summit for a pub crawl. The brewery be working with a
 nd highlighting bars and restaurants along the Green Line from downtown Mi
 nneapolis to downtown Saint Paul. See www.summitbrewing.com for more detai
 ls and information.\nFor more info on the Green Line in general:\nhttp://w
 ww.metrotransit.org/metro-green-line
CATEGORIES:Bars/Restaurants
END:VEVENT
END:VCALENDAR