BEGIN:VCALENDAR
VERSION:2.0
PRODID:-//wp-events-plugin.com//7.2.3.1//EN
BEGIN:VEVENT
UID:692@mnbeer.com
DTSTART:20140605T230000Z
DTEND:20140606T020000Z
DTSTAMP:20140512T181524Z
URL:https://www.mnbeer.com/events/summit-tap-invasion/
SUMMARY:Summit Tap Invasion
DESCRIPTION:Summit Tap Invasion: EPA\, Sága IPA\, Horizon Red IPA\, Pilsen
 er\, Summer Ale\, Oatmeal Stout (nitro). Live music on patio 6-9pm. Summit
  prize giveaways 6-8pm. Summit brewer Christian Dixon will also be in the 
 house!\nhttp://www.houlihans.com/my-houlihans/eagan
CATEGORIES:Bars/Restaurants
LOCATION:Houlihan's\, 1294 Promenade Pl\, Eagan\, MN\, United States
GEO:44.8341289;-93.1568021
X-APPLE-STRUCTURED-LOCATION;VALUE=URI;X-ADDRESS=1294 Promenade Pl\, Eagan\,
  MN\, United States;X-APPLE-RADIUS=100;X-TITLE=Houlihan's:geo:44.8341289,-
 93.1568021
END:VEVENT
END:VCALENDAR