BEGIN:VCALENDAR
VERSION:2.0
PRODID:-//wp-events-plugin.com//7.2.3.1//EN
BEGIN:VEVENT
UID:695@mnbeer.com
DTSTART:20140516T210000Z
DTEND:20140517T020000Z
DTSTAMP:20140512T191058Z
URL:https://www.mnbeer.com/events/summitkarben4-maccc-daddy/
SUMMARY:Summit/Karben4 MACCC Daddy
DESCRIPTION:Summit will be tapping one keg of the Summit/Karben4 collaborat
 ion beer MACCC Daddy this Friday at the Beer Hall.\n\nSince they only got 
 one keg for this side of the border\, they’ll be offering free 7 oz pour
 s from 4-9pm at the Summit Beer Hall this Friday May 16.\n\n
ATTACH;FMTTYPE=image/jpeg:https://www.mnbeer.com/wp-content/uploads/macccc
 c.daddyyyy.jpg
CATEGORIES:Beer Release,Breweries
LOCATION:Summit Brewing Company\, 910 Montreal Circle\, St. Paul\, MN\, Uni
 ted States
GEO:44.9144412;-93.140537
X-APPLE-STRUCTURED-LOCATION;VALUE=URI;X-ADDRESS=910 Montreal Circle\, St. P
 aul\, MN\, United States;X-APPLE-RADIUS=100;X-TITLE=Summit Brewing Company
 :geo:44.9144412,-93.140537
END:VEVENT
END:VCALENDAR