BEGIN:VCALENDAR
VERSION:2.0
PRODID:-//wp-events-plugin.com//7.2.3.1//EN
BEGIN:VEVENT
UID:1210@mnbeer.com
DTSTART:20150517T220000Z
DTEND:20150518T010000Z
DTSTAMP:20150428T003824Z
URL:https://www.mnbeer.com/events/sunday-funday-a-week-too-late-with-brau-
 bros-at-village-pub/
SUMMARY:Sunday Funday a week too late with Brau Bros' at Village Pub
DESCRIPTION:Brau Brothers Brewing Co.\, might be late to the party with thi
 s event but they are still gonna celebrate like it's still MN Craft Beer W
 eek! Activities include:\n1). A brewery representative to interact/hassle/
 heckle the bocce players/customers and pour/provide them with info about o
 ur beer from 5-8PM\n2.) A limited release or cask beer\n3.) SWAG!
LOCATION:Village Pub\, 2720 County Rd 88 \, St. Anthony\, Minnesota\, 55418
 \, United States
GEO:45.017117;-93.21808499999997
X-APPLE-STRUCTURED-LOCATION;VALUE=URI;X-ADDRESS=2720 County Rd 88 \, St. An
 thony\, Minnesota\, 55418\, United States;X-APPLE-RADIUS=100;X-TITLE=Villa
 ge Pub:geo:45.017117,-93.21808499999997
END:VEVENT
END:VCALENDAR