BEGIN:VCALENDAR
VERSION:2.0
PRODID:-//wp-events-plugin.com//7.2.3.1//EN
BEGIN:VEVENT
UID:1075@mnbeer.com
DTSTART:20150204T210000Z
DTEND:20150204T210000Z
DTSTAMP:20150204T185606Z
URL:https://www.mnbeer.com/events/surly-beerpocalypse/
SUMMARY:Surly Beerpocalypse
DESCRIPTION:Wednesday\, Feb. 4th starting at 4 PM.  Here's what we are tapp
 ing:\nDarkness 12\,13\,14\nLong of Tooth\nCacao-Bender\nEight\nSeviin\n201
 3 Smoke\nAbrasive\nPentagram\nDoomtree\nTodd The Axman\nHell\nFurious\nHop
 e to see you here!
CATEGORIES:Bars/Restaurants
LOCATION:MACKENZIE\, 918 Hennepin Ave.\, Minneapolis\, Minnesota\, 55403\, 
 United States
GEO:44.9763346;-93.27766489999999
X-APPLE-STRUCTURED-LOCATION;VALUE=URI;X-ADDRESS=918 Hennepin Ave.\, Minneap
 olis\, Minnesota\, 55403\, United States;X-APPLE-RADIUS=100;X-TITLE=MACKEN
 ZIE:geo:44.9763346,-93.27766489999999
END:VEVENT
END:VCALENDAR