BEGIN:VCALENDAR
VERSION:2.0
PRODID:-//wp-events-plugin.com//7.2.3.1//EN
BEGIN:VEVENT
UID:3491@mnbeer.com
DTSTART:20190407T160000Z
DTEND:20190407T210000Z
DTSTAMP:20190326T195504Z
URL:https://www.mnbeer.com/events/surly-slay-day-2019/
SUMMARY:Surly Slay Day 2019
DESCRIPTION:Surly HeatSlayer is brewed for the summer swelter. This year\, 
 it also kills winter dead. Join us for the wake at our second annual Slay 
 Day\, where we celebrate the release of our kölsch-style ale from 11 am t
 o 4 pm on Sunday\, April 7th. Get outside\, wear your best Sorel/Tommy Bah
 ama or parka/shorts combo\, and join us the Beer Garden. Rain or shine or 
 sleet or snow or\, maybe\, just maybe\, the sun. We’ve been inside for s
 ix months. Let’s have a beer.\n\nThe deal: $15 for all the HeatSlayer y
 ou care to drink in our Beer Garden\, served in our freshly redesigned 12 
 oz. cans. (If you want a different kind of beer we’ll have our full menu
  inside\, but those will be at regular price.) We’ll have summer games s
 et up outside\, grilling stations\, a DJ\, basically the whole outdoor par
 ty vibe you’ve missed out on since winter broke us in half.\n\nThe beer:
  As noted\, HeatSlayer is a crisp\, refreshing kölsch-style ale. The hit
  of last year’s summer variety pack\, it is our April-June quarterly rel
 ease. Find it at Slay Day and in six-packs/on draft wherever Surly is sold
 .
CATEGORIES:Beer Release
LOCATION:Surly Brewing Co.\, 520 Malcolm Ave SE\, Minneapolis\, MN\, 55414\
 , United States
X-APPLE-STRUCTURED-LOCATION;VALUE=URI;X-ADDRESS=520 Malcolm Ave SE\, Minnea
 polis\, MN\, 55414\, United States;X-APPLE-RADIUS=100;X-TITLE=Surly Brewin
 g Co.:geo:0,0
END:VEVENT
END:VCALENDAR