BEGIN:VCALENDAR
VERSION:2.0
PRODID:-//wp-events-plugin.com//7.2.3.1//EN
BEGIN:VEVENT
UID:773@mnbeer.com
DTSTART:20140804T210000Z
DTEND:20140805T010000Z
DTSTAMP:20140730T171438Z
URL:https://www.mnbeer.com/events/sw-burbs-beer-feast-fest/
SUMMARY:SW Burbs Beer Feast & Fest
DESCRIPTION:Celebrate the local craft beers of the Twin Cities: Lucid Brewi
 ng\, Fulton Beer\, Excelsior Brewing Company\, Third Street\, ENKI\, Lift 
 Bridge\, Big Wood\, Badger Hill.\n\nMeet the brewers &amp\; sample the bre
 ws! Chef Zac Leeman will have 8 courses\, each either paired or prepared w
 ith signature brews from the featured brewers!\n\nTicket: $45/ person. Inc
 ludes 8 samples and 8 food courses. Raffle prizes too!\n\nCall 952.934.454
 5 to make a reservation!
ATTACH;FMTTYPE=image/jpeg:https://www.mnbeer.com/wp-content/uploads/swburb
 s.png
CATEGORIES:Bars/Restaurants,Beer Festival,Breweries
LOCATION:Tavern 4&amp\;5\, 16396 Wagner Way\, Eden Prairie\, Minnesota\, Un
 ited States
GEO:44.8644447;-93.48261509999998
X-APPLE-STRUCTURED-LOCATION;VALUE=URI;X-ADDRESS=16396 Wagner Way\, Eden Pra
 irie\, Minnesota\, United States;X-APPLE-RADIUS=100;X-TITLE=Tavern 4&5:geo
 :44.8644447,-93.48261509999998
END:VEVENT
END:VCALENDAR