BEGIN:VCALENDAR
VERSION:2.0
PRODID:-//wp-events-plugin.com//7.2.3.1//EN
BEGIN:VEVENT
UID:1839@mnbeer.com
DTSTART:20160929T223000Z
DTEND:20160930T010000Z
DTSTAMP:20160606T170614Z
URL:https://www.mnbeer.com/events/tapd-in/
SUMMARY:Tap'd' In
DESCRIPTION:Join us at the Minneapolis Event center on September 29th for T
 ap'd In! This event is put on by United Way's Emerging Leaders group and 1
 00% of all ticket sales will go directly back into helping the community. 
 The event will include free appetizers\, available food for purchase from 
 local food trucks\, networking with some of the most influential leaders i
 n our community\, a panel discussion\, and tastings of various beers from 
 20+ local Minnesota breweries. \n\nDuring this event\, you will mingle wit
 h the local brewers as well as learn more about who the Emerging Leaders a
 re\, why you should join\, and how you can further help give back to your 
 community.
ATTACH;FMTTYPE=image/jpeg:https://www.mnbeer.com/wp-content/uploads/Tapd_I
 n_2015_Group.jpg
CATEGORIES:Tasting
LOCATION:Minneapolis Event Center\, 212 2nd St SE\, Minneapolis\, Minnesota
 \, 55414\, United States
GEO:44.9845856;-93.25406759999998
X-APPLE-STRUCTURED-LOCATION;VALUE=URI;X-ADDRESS=212 2nd St SE\, Minneapolis
 \, Minnesota\, 55414\, United States;X-APPLE-RADIUS=100;X-TITLE=Minneapoli
 s Event Center:geo:44.9845856,-93.25406759999998
END:VEVENT
END:VCALENDAR