BEGIN:VCALENDAR
VERSION:2.0
PRODID:-//wp-events-plugin.com//7.2.3.1//EN
BEGIN:VEVENT
UID:1902@mnbeer.com
DTSTART:20160930T230000Z
DTEND:20161001T030000Z
DTSTAMP:20160711T043602Z
URL:https://www.mnbeer.com/events/tapped-and-uncorked/
SUMMARY:Tapped and Uncorked!
DESCRIPTION:Third annual Pour FOR Parks: Tapped &amp\; Uncorked! fundraiser
  by the Friends of Roseville Parks. Features sampling from local craft bre
 weries\, wineries and distilleries\, plus food trucks\, live music by GB L
 eighton\, human foosball\, hammerschlagen and more! Takes place outside\, 
 rain or shine\, at the OVAL in Roseville. Details and tickets on website\,
  http://PourFORParks.com.
ATTACH;FMTTYPE=image/jpeg:https://www.mnbeer.com/wp-content/uploads/Tapped
 -Uncorked-2016-save.jpg
CATEGORIES:Tasting
LOCATION:Guidant John Rose MN OVAL\, 2661 Civic Center Drive\, Roseville\, 
 MN\, 55113\, United States
GEO:45.0220783;-93.15028129999996
X-APPLE-STRUCTURED-LOCATION;VALUE=URI;X-ADDRESS=2661 Civic Center Drive\, R
 oseville\, MN\, 55113\, United States;X-APPLE-RADIUS=100;X-TITLE=Guidant J
 ohn Rose MN OVAL:geo:45.0220783,-93.15028129999996
END:VEVENT
END:VCALENDAR