BEGIN:VCALENDAR
VERSION:2.0
PRODID:-//wp-events-plugin.com//7.2.3.1//EN
BEGIN:VEVENT
UID:3263@mnbeer.com
DTSTART:20180928T230000Z
DTEND:20180929T030000Z
DTSTAMP:20180910T180555Z
URL:https://www.mnbeer.com/events/tapped-uncorked-3/
SUMMARY:Tapped &amp\; Uncorked
DESCRIPTION:It's the 5th annual Tapped &amp\; Uncorked! Outdoors at the OVA
 L\, sample local beer\, wine\, and distilled spirits while dancing to the 
 music of Free and Easy. Food trucks\, fun games like Human Foosball and Ha
 mmerschlagen\, and more! Tickets are on sale now through PourFORParks.com\
 , or at Roseville Parks and Recreation office at City Hall: General Admiss
 ion tickets $35 in advance\, $40 at the door\; $10 Designated Driver\; VIP
  Tent tickets\, for hand-distilled spirits &amp\; cocktails tasting are an
  additional $15 (must purchase General Admission ticket as well\; VIP tick
 ets are limited).\n\nEvent is presented by the Friends of Roseville Parks\
 , a non-profit organization whose members raise funds for the benefit of a
 ll Roseville parks and recreation facilities. Tapped &amp\; Uncorked bring
 s our community together in a unique location with an opportunity to sampl
 e and support local small businesses\, plus it’s loads of fun! All funds
  go directly to the parks to provide recreational facilities and activitie
 s for families\, children and adults.
CATEGORIES:Beer Festival
LOCATION:Guidant John Rose MN OVAL\, 2661 Civic Center Drive\, Roseville\, 
 MN\, 55113\, United States
GEO:45.0217835;-93.15020600000003
X-APPLE-STRUCTURED-LOCATION;VALUE=URI;X-ADDRESS=2661 Civic Center Drive\, R
 oseville\, MN\, 55113\, United States;X-APPLE-RADIUS=100;X-TITLE=Guidant J
 ohn Rose MN OVAL:geo:45.0217835,-93.15020600000003
END:VEVENT
END:VCALENDAR