BEGIN:VCALENDAR
VERSION:2.0
PRODID:-//wp-events-plugin.com//7.2.3.1//EN
BEGIN:VEVENT
UID:1079@mnbeer.com
DTSTART:20151002T230000Z
DTEND:20151003T030000Z
DTSTAMP:20150210T221616Z
URL:https://www.mnbeer.com/events/tapped-uncorked/
SUMMARY:Tapped &amp\; Uncorked!
DESCRIPTION:Second annual Pour FOR Parks: Tapped &amp\; Uncorked! fundraise
 r by the Friends of Roseville Parks. Features local craft breweries\, loca
 l wineries\, food trucks\, live music\, fun games and more and takes place
  outside\, rain or shine\, at the OVAL in Roseville. http://pourforparks.c
 om
ATTACH;FMTTYPE=image/jpeg:https://www.mnbeer.com/wp-content/uploads/Sharon
 -Hirstein-photo-Square2.jpg
CATEGORIES:Beer Festival
LOCATION:Guidant John Rose MN OVAL\, 2661 Civic Center Drive\, Roseville\, 
 MN\, 55113\, United States
GEO:45.0220783;-93.15028129999996
X-APPLE-STRUCTURED-LOCATION;VALUE=URI;X-ADDRESS=2661 Civic Center Drive\, R
 oseville\, MN\, 55113\, United States;X-APPLE-RADIUS=100;X-TITLE=Guidant J
 ohn Rose MN OVAL:geo:45.0220783,-93.15028129999996
END:VEVENT
END:VCALENDAR