BEGIN:VCALENDAR
VERSION:2.0
PRODID:-//wp-events-plugin.com//7.2.3.1//EN
BEGIN:VEVENT
UID:3417@mnbeer.com
DTSTART:20190126T120000Z
DTEND:20190126T230000Z
DTSTAMP:20190123T181857Z
URL:https://www.mnbeer.com/events/tapping-smashwerks/
SUMMARY:Tapping | SmashWerks
DESCRIPTION:Smashwerks will be back on tap starting at noon on Saturday\, J
 anuary\, 26th! #CopperTrailBrewing\n\n&gt\;&gt\; A beer brewed with one ma
 lt and one hop! A pale ale malt that was malted right in Detroit Lakes\, M
 N was used for this brew. It is a very sweet malt that brings a large dept
 h of complexity. The hop chosen was a Simcoe hop. We chose it to provide a
  super refreshing undertone\, while also adding a slight bitterness to the
  back end. At only 50 IBU’s\, this beer only has a hint of sharpness\, s
 o it is sure to please on the hottest of summer days!\n\nhttps://www.faceb
 ook.com/events/320940352096895/
LOCATION:Copper Trail Brewing Company\, 410 30th Ave E\, #103\, Alexandria\
 , MN\, 56308\, United States
GEO:45.864373;-95.371585
X-APPLE-STRUCTURED-LOCATION;VALUE=URI;X-ADDRESS=410 30th Ave E\, #103\, Ale
 xandria\, MN\, 56308\, United States;X-APPLE-RADIUS=100;X-TITLE=Copper Tra
 il Brewing Company:geo:45.864373,-95.371585
END:VEVENT
END:VCALENDAR