BEGIN:VCALENDAR
VERSION:2.0
PRODID:-//wp-events-plugin.com//7.2.3.1//EN
BEGIN:VEVENT
UID:3447@mnbeer.com
DTSTART:20190310T000000Z
DTEND:20190310T020000Z
DTSTAMP:20190218T214418Z
URL:https://www.mnbeer.com/events/taproom-jazz-2019-03-09/
SUMMARY:Taproom Jazz
DESCRIPTION:This free\, family-friendly event supports local jazz musicians
  The MN Hard Bop Collective. \n\nFebruary Hard Bop Composers Birthdays Con
 cert... This month we will feature compositions by Sonny Stitt\, Dexter Go
 rdon\, and Tadd Dameron. Featuring the Sextet!\n\nJoe Mayo - Tenor\nClay P
 uhfal - Alto\nJeff Rinear - Trombone\nPhil Aaron - Piano\nTed Olsen - Bass
 \nJesse Simon - Drums\n\nFor more information on the musicians: http://boo
 mislandbrewing.com/events/2019/jazz-night-february-birthdays
ATTACH;FMTTYPE=image/jpeg:https://www.mnbeer.com/wp-content/uploads/Jazz.j
 pg
CATEGORIES:Music
LOCATION:Boom Island Brewing\, 2014 Washington Ave N\, Minneapolis\, MN\, 5
 5411\, North Minneapolis\, United States
GEO:44.999873;-93.28133400000002
X-APPLE-STRUCTURED-LOCATION;VALUE=URI;X-ADDRESS=2014 Washington Ave N\, Min
 neapolis\, MN\, 55411\, North Minneapolis\, United States;X-APPLE-RADIUS=1
 00;X-TITLE=Boom Island Brewing:geo:44.999873,-93.28133400000002
END:VEVENT
END:VCALENDAR