BEGIN:VCALENDAR
VERSION:2.0
PRODID:-//wp-events-plugin.com//7.2.3.1//EN
BEGIN:VEVENT
UID:3228@mnbeer.com
DTSTART:20180616T160000Z
DTEND:20180616T170000Z
DTSTAMP:20180518T125941Z
URL:https://www.mnbeer.com/events/the-creamery-workshop-introduction-to-ch
 eese-making/
SUMMARY:The Creamery Workshop: Introduction to Cheese Making
DESCRIPTION:Love cheese? Who doesn’t? Now get ready to make the most deli
 cious\, fresh cheese you’ve ever tasted...Hand-crafted by you! Our exper
 t cheesecrafters will share everything you need to know about the process\
 , ingredients and tools required to whip up your very own artisan-quality 
 cheese in under an hour. Learn key techniques for mastering the art of che
 esemaking with live demonstrations from the pros. Plus\, get 15% off any c
 heesemaking kit. Let the crafting begin!\n\nCourse Overview:\n\nCheesemaki
 ng ingredients and equipment\nCheesemaking process\nDemonstration of a fre
 sh\, soft cheeses\nProduction differences between hard and soft cheeses.\n
 \nMore Info Here:\nhttps://www.eventbrite.com/e/the-creamery-workshop-intr
 oduction-to-cheese-making-tickets-45774569971?aff=mnbeer
CATEGORIES:Foodie
LOCATION:Northern Brewer - St. Paul\, 1150 Grand Ave\, St. Paul\, Minnesota
 \, 55105\, United States
GEO:44.9333345;-93.34125289999997
X-APPLE-STRUCTURED-LOCATION;VALUE=URI;X-ADDRESS=1150 Grand Ave\, St. Paul\,
  Minnesota\, 55105\, United States;X-APPLE-RADIUS=100;X-TITLE=Northern Bre
 wer - St. Paul:geo:44.9333345,-93.34125289999997
END:VEVENT
END:VCALENDAR