BEGIN:VCALENDAR
VERSION:2.0
PRODID:-//wp-events-plugin.com//7.2.3.1//EN
BEGIN:VEVENT
UID:3304@mnbeer.com
DTSTART:20181219T200000Z
DTEND:20181221T043000Z
DTSTAMP:20181217T180958Z
URL:https://www.mnbeer.com/events/the-darkest-days-celebration/
SUMMARY:The Darkest Days Celebration
DESCRIPTION:Darkest Days Celebration \n\nWednesday December 19th\, 2018\n\n
 \n\nAll 30 Tap Lines \n\nStarts at 3pm\n\n\n\nBallast Point BA Victory at 
 Sea ‘18\n\nBell’s Bourbon BA Expedition Stout ‘18\n\nBent Paddle BA 
 Double Shot Double Black ‘18 \n\nBrooklyn Black Ops ‘17\n\nDeschutes B
 lack Butte XXX\n\nDestihl Dosvidanya Rye ‘18\n\nEpic Big Bad Baptista 
 ‘17\n\nEpic Triple Barrel Big Bad Baptist ‘17\n\nFirestone Walker Coco
 nut Rye Parabola ‘18\n\nFounders CBS ‘17\n\nFounders CBS ‘18\n\nFult
 on Jameson Whiskey War &amp\; Peace ‘18\n\nGoose Island Bourbon County 
 ‘15\n\nGoose Island Bourbon County ‘16\n\nGoose Island Bourbon County 
 ‘17\n\nGoose Island Bourbon County Vanilla ‘18\n\nIndeed Rum King Zamb
 oni Cold Brew ‘17\n\nIndeed Rum King Orange Cacao ‘18\n\nInsight BA Gr
 avity Well ‘16\n\nLagunitas Willettized Coffee Stout ‘18 \n\nLagunitas
  Fudge &amp\; Sickle Imperial Stout\n\nLift Bridge BA Silhouette ‘16\n\n
 Lift Bridge BA Silhouette ‘17\n\nOdell Jolly Russian ‘18\n\nPryes BA L
 ost Moon ‘18\n\nSurly Darkness ‘17\,\n\nSurly BA Darkness ‘17\n\nSur
 ly Darkness ‘18\n\nSurly BA Pentagram ‘18\n\n612 Spyhouse Expresso BA 
 Outfit Porter ‘16\n\n \n\n \n\nFeaturing Specialty Bourbons on Heated Pa
 tio\n\nPappy Van Winkle &amp\; Buffalo Trace Antique Collection
ATTACH;FMTTYPE=image/jpeg:https://www.mnbeer.com/wp-content/uploads/thumbn
 ail.jpg
CATEGORIES:Bars/Restaurants
LOCATION:Uptown Tavern and Rooftop\, 1400 Lagoon Ave\, Minneapolis\, MN\, 5
 5408\, United States
GEO:44.949407;-93.297323
X-APPLE-STRUCTURED-LOCATION;VALUE=URI;X-ADDRESS=1400 Lagoon Ave\, Minneapol
 is\, MN\, 55408\, United States;X-APPLE-RADIUS=100;X-TITLE=Uptown Tavern a
 nd Rooftop:geo:44.949407,-93.297323
END:VEVENT
END:VCALENDAR