BEGIN:VCALENDAR
VERSION:2.0
PRODID:-//wp-events-plugin.com//7.2.3.1//EN
BEGIN:VEVENT
UID:708@mnbeer.com
DTSTART:20140615T120000Z
DTEND:20140617T060000Z
DTSTAMP:20140521T212655Z
URL:https://www.mnbeer.com/events/the-gais-deutsche-tage-german-days-2014-
 06-15/
SUMMARY:The GAI's Deutsche Tage (German Days)
DESCRIPTION:It's the Great GERMAN Get-together! Join us June 14-15\, 2014 f
 or authentic Deutsche Tage at the Germanic-American Institute\, 301 Summit
  Avenue\, Saint Paul.\n\nDetails at: http://www.gai-mn.org/events/deutsche
 tage.html\n\nBoth days feature authentic German food and 6 kinds of German
  beer on tap at the Paulaner Biergarten\, as well as German musicians\, da
 ncers\, and vendors. Activities will be ongoing all day\, both Saturday an
 d Sunday.\n\nSaturday Events:\nMenu of authentic German beer\, food\, and 
 activities all day\n6:50am - 11:00am: Lederhosenlauf 5K and Mile Walk\n11:
 00am - 5:00pm: Bicyclists’ Biergarten &amp\; Beer Tastings (half-priced 
 beer for those who arrive by bike or public transit)\n5:00pm - 10:00pm: So
 mmerparty\n10:00pm - 1:00am After-Hours Tanzparty (21+)\n\nSunday Schedule
 :\nFull menu of authentic German beer\, food\, and activities all day\n11:
 00am - 5:00pm: Deutscher Tag\n1:00pm - 3:00pm: Kaffe &amp\; Kuchen / Coffe
 e &amp\; Cake\n1:00pm - 3:00pm Kid's Games
CATEGORIES:Beer Festival,Festival,Tasting
LOCATION:Germanic-American Institute (GAI)\, 301 Summit Ave.\, St. Paul\, M
 innesota\, 55102\, United States
GEO:44.9445276;-93.1125088
X-APPLE-STRUCTURED-LOCATION;VALUE=URI;X-ADDRESS=301 Summit Ave.\, St. Paul\
 , Minnesota\, 55102\, United States;X-APPLE-RADIUS=100;X-TITLE=Germanic-Am
 erican Institute (GAI):geo:44.9445276,-93.1125088
END:VEVENT
END:VCALENDAR