BEGIN:VCALENDAR
VERSION:2.0
PRODID:-//wp-events-plugin.com//7.2.3.1//EN
BEGIN:VEVENT
UID:697@mnbeer.com
DTSTART:20140621T160000Z
DTEND:20140621T230000Z
DTSTAMP:20140521T212537Z
URL:https://www.mnbeer.com/events/the-great-bull-run/
SUMMARY:The Great Bull Run
DESCRIPTION:The Great Bull Run is coming to Elk River Extreme Motor Park in
  the Twin Cities area on June 21st\, 2014!  Grab life by the horns and exp
 erience the rush of a lifetime as you sprint down a quarter-mile track wit
 h up to twenty-four 1\,500-pound bulls hot on your heels.  Cap off your ru
 n in our insanely fun tomato food fight\, Tomato Royale\, then celebrate a
 ll day long in our massive festival featuring great music\, tasty food\, c
 old beer\, games and attractions!  Not up for running with bulls?  No prob
 lem!  You can still watch all the action as a spectator or join in the fun
  as a participant in Tomato Royale!\n\nFor tickets visit http://www.thegre
 atbullrun.com/events/mn2014/  
CATEGORIES:Beer Festival
LOCATION:Elk River Extreme Motor Park in Elk River\, MN\, 21591 U.S. 169\, 
 Elk River\, MN\, 55330\, United States
GEO:45.3633536;-93.563628
X-APPLE-STRUCTURED-LOCATION;VALUE=URI;X-ADDRESS=21591 U.S. 169\, Elk River\
 , MN\, 55330\, United States;X-APPLE-RADIUS=100;X-TITLE=Elk River Extreme 
 Motor Park in Elk River\, MN:geo:45.3633536,-93.563628
END:VEVENT
END:VCALENDAR