BEGIN:VCALENDAR
VERSION:2.0
PRODID:-//wp-events-plugin.com//7.2.3.1//EN
BEGIN:VEVENT
UID:1051@mnbeer.com
DTSTART:20150221T213000Z
DTEND:20150221T213000Z
DTSTAMP:20150113T213359Z
URL:https://www.mnbeer.com/events/the-great-twin-ports-taste-together-2/
SUMMARY:The Great Twin Ports Taste Together
DESCRIPTION:4:30 – 8:00pm\, concert at 8:30pm // $40-75\n\nYou really can
 ’t go too wrong with great beer and great music. I’d love to see more 
 festivals of this sort. Much like other brew fests\, the Great Twin Ports 
 Taste Together features tons of great local and national breweries and win
 eries and music\, food\, etc. GTPTT steps the game up a notch by including
  a concert with Trampled by Turtles as part of your ticket price. Make a w
 eekend of it and recover on Sunday to the plinks and beeps of the slot mac
 hines as you crawl to the buffet for breakfast.\n\n&nbsp\;\n\n&nbsp\;
ATTACH;FMTTYPE=image/jpeg:https://www.mnbeer.com/wp-content/uploads/trtl_b
 rewfest_940x198-e1421184808365.jpg
CATEGORIES:Beer Festival
LOCATION:Otter Creek Event Center\, Black Bear Casino\, 1789 Minnesota High
 way 210\, Carleton\, MN\, United States
GEO:46.663611;-92.4806759
X-APPLE-STRUCTURED-LOCATION;VALUE=URI;X-ADDRESS=1789 Minnesota Highway 210\
 , Carleton\, MN\, United States;X-APPLE-RADIUS=100;X-TITLE=Otter Creek Eve
 nt Center\, Black Bear Casino:geo:46.663611,-92.4806759
END:VEVENT
END:VCALENDAR