BEGIN:VCALENDAR
VERSION:2.0
PRODID:-//wp-events-plugin.com//7.2.3.1//EN
BEGIN:VEVENT
UID:1931@mnbeer.com
DTSTART:20160908T050000Z
DTEND:20160908T050000Z
DTSTAMP:20160815T040349Z
URL:https://www.mnbeer.com/events/the-happy-gnome-tap-takeover-and-schottk
 y-pumpkin-release-keep-the-pint/
SUMMARY:The Happy Gnome Tap Takeover and Schottky Pumpkin Release 'Keep the
  Pint'
DESCRIPTION:Join us for our FIRST Schottky Pumpkin tap release of the seaso
 n\, with a 'Keep the Pint' night! Also featuring on tap: Wheatstone Bridge
 \, Flip Switch IPA\, Schottky Pumpkin Tiny Circuit Coffee Stout on Nitro\,
  and Fourier Series: Oktoberfest Cask!
CATEGORIES:Release
LOCATION:The Happy Gnome\, 498 Selby Avenue\, St. Paul\, MN\, United States
GEO:44.946408;-93.12093649999997
X-APPLE-STRUCTURED-LOCATION;VALUE=URI;X-ADDRESS=498 Selby Avenue\, St. Paul
 \, MN\, United States;X-APPLE-RADIUS=100;X-TITLE=The Happy Gnome:geo:44.94
 6408,-93.12093649999997
END:VEVENT
END:VCALENDAR