BEGIN:VCALENDAR
VERSION:2.0
PRODID:-//wp-events-plugin.com//7.2.3.1//EN
BEGIN:VEVENT
UID:1052@mnbeer.com
DTSTART:20150214T130000Z
DTEND:20150214T130000Z
DTSTAMP:20150113T214114Z
URL:https://www.mnbeer.com/events/the-herkimers-bus-to-bockfest/
SUMMARY:The Herkimer’s Bus to Bockfest
DESCRIPTION:$65\n\nRide the bus to Bockfest with The Herkimer\, and more im
 portantly\, some great beer. The Herkimer provides breakfast\, Screwdriver
 s and of course beer with your breakfast as well as beer on the bus and sw
 ag.
ATTACH;FMTTYPE=image/jpeg:https://www.mnbeer.com/wp-content/uploads/BockFe
 st2015.png
CATEGORIES:Beer Festival,Brewpubs
LOCATION:The Herkimer\, 2922 Lyndale Avenue South\, Minneapolis\, MN\, Unit
 ed States
GEO:44.9492314;-93.28828529999998
X-APPLE-STRUCTURED-LOCATION;VALUE=URI;X-ADDRESS=2922 Lyndale Avenue South\,
  Minneapolis\, MN\, United States;X-APPLE-RADIUS=100;X-TITLE=The Herkimer:
 geo:44.9492314,-93.28828529999998
END:VEVENT
END:VCALENDAR