BEGIN:VCALENDAR
VERSION:2.0
PRODID:-//wp-events-plugin.com//7.2.3.1//EN
BEGIN:VEVENT
UID:1000@mnbeer.com
DTSTART:20150221T233000Z
DTEND:20150222T023000Z
DTSTAMP:20141231T155905Z
URL:https://www.mnbeer.com/events/the-lost-cajun-and-the-swamp-kings-at-ki
 nney-creek/
SUMMARY:The Lost Cajun\, and the Swamp Kings at Kinney Creek
DESCRIPTION:To help everyone warm up a bit this winter\, we are celebrating
  Mardi Gras cajun style. Local Cajun blues band\, The Swamp Kings\, will b
 e playing in the taproom\, and The Lost Cajun will be serving authentic ca
 jun gumbo to help warm you up! Come listen to some great jams\, munch some
  great grub\, and sip on some fantastic local brew!
ATTACH;FMTTYPE=image/jpeg:https://www.mnbeer.com/wp-content/uploads/Kinney
 -Creek-Logo-small2.jpg
CATEGORIES:Music
LOCATION:Kinney Creek Brewery\, 1016 7th Street NW\, Rochester\, Minnesota\
 , 55901\, United States
GEO:44.03094100000001;-92.47822300000001
X-APPLE-STRUCTURED-LOCATION;VALUE=URI;X-ADDRESS=1016 7th Street NW\, Roches
 ter\, Minnesota\, 55901\, United States;X-APPLE-RADIUS=100;X-TITLE=Kinney 
 Creek Brewery:geo:44.03094100000001,-92.47822300000001
END:VEVENT
END:VCALENDAR