BEGIN:VCALENDAR
VERSION:2.0
PRODID:-//wp-events-plugin.com//7.2.3.1//EN
BEGIN:VEVENT
UID:1008@mnbeer.com
DTSTART:20150109T010000Z
DTEND:20150109T010000Z
DTSTAMP:20150107T213856Z
URL:https://www.mnbeer.com/events/the-love-of-beer-film-discussion/
SUMMARY:The Love of Beer Film & Discussion
DESCRIPTION:For the New Year Casket we are going bottoms up and will turn s
 tereotypes upside down and lead you into the world of lady brewers\, in th
 e film\, "The Love of Beer". This documentary enlightens us that many wome
 n not only work in the craft brewing business but they thrive! The star of
  this movie is Tonya Cornett of 10 Barrel Brewing. She has won handfuls of
  awards for her Oregon based beers\, including the Brewmaster of the Year 
 (2009) at the Annual World Beer Cup Competition. The film also ventures in
 to other jobs women do in the industry and why they are attracted to this 
 business. Joining us after the film for a salon discussion will a fantasti
 c panel of local women involved in the Twin Cities brewing scene\; Beer Ju
 dge and educator Gera Exire Latour will lead a panel discussion with Tara 
 Alcure of Green Flash Brewing\, Kathleen Culhane of Sidhe Brewing and Rach
 el Grey of Herkimer Brewing. This promises to be an awesome event of Film\
 , Women and Beer. We hope you can make it.\n\nMore info on the film is ava
 ilable at\; http://theloveofbeermovie.com/\n\nSpecial guests are Beer Judg
 e and educator Gera Exire Latour will lead a panel discussion with Tara Al
 cure of Green Flash Brewing\, Kathleen Culhane of Sidhe Brewing and Rachel
  Grey of Herkimer Brewing. They will be introduced by Casket Cinema co-fou
 nder/host and national beer judge Wilbur Ince.\n\nDonation of $5-10 will g
 o to a pay the filmmaker.\n\nWe hope you can all make "The Love of Beer"\,
  Thursday\, January 8th\, 2014\, at 8pm. Doors open at 7:30pm.\n\nWhere: C
 asket Cinema is located in the art studio of Mark Wojahn. The cinema is in
  the old Northwestern Casket Building\, 681 17th Ave NE #145\, Minneapolis
 \, MN 55413 (612)781-5223.\n\nIf the event is on a first Thursday the buil
 ding will be open\, if not enter the Casket\, via the north side loading d
 oor.\n\nPlease bring friends and BYOB. Admission is usually $5 donation or
  free.\n\nWe are a micro/studio-cinema dedicated to showing the best in in
 dependent films and documentaries. After each screening we delve into the 
 subject with a Q&amp\; A with special guests and/or filmmakers.\n\nPlease 
 rsvp and get more info to get to this screening at the Casket Cinema Faceb
 ook page: http://www.facebook.com/groups/Casketcinema\n\nFind us on Facebo
 ok at: http://www.facebook.com/groups/Casketcinema\n\nFilms web sites:\nht
 tp://theloveofbeermovie.com/\nTrailer:https://www.youtube.com/watch?v=Tm89
 wzL9yE8\nMedia Coverage:\nhttps://www.youtube.com/watch?v=97IDkb-lT9k#t=15
 \n\nAs always please BYOB!
ATTACH;FMTTYPE=image/jpeg:https://www.mnbeer.com/wp-content/uploads/loveof
 beer.jpg
CATEGORIES:Discussion/Panel,Film
LOCATION:Casket Arts\, 681 17th Avenue NE\, Minneapolis\, MN\, United State
 s
GEO:45.0052678;-93.2543938
X-APPLE-STRUCTURED-LOCATION;VALUE=URI;X-ADDRESS=681 17th Avenue NE\, Minnea
 polis\, MN\, United States;X-APPLE-RADIUS=100;X-TITLE=Casket Arts:geo:45.0
 052678,-93.2543938
END:VEVENT
END:VCALENDAR