BEGIN:VCALENDAR
VERSION:2.0
PRODID:-//wp-events-plugin.com//7.2.3.1//EN
BEGIN:VEVENT
UID:3239@mnbeer.com
DTSTART:20180621T000000Z
DTEND:20180621T023000Z
DTSTAMP:20180614T184831Z
URL:https://www.mnbeer.com/events/the-naughty-citizen-dining-series-soltic
 e-social/
SUMMARY:The Naughty Citizen Dining Series -Soltice Social
DESCRIPTION:An evening of Greek food paired with craft beer\, brought to yo
 u by the freshest partnership this side of the Mississippi.\n\nThe Naughty
  Citizen Dining Series is a joint venture from Dual Citizen Brewing Compan
 y and The Naughty Greek. We're thrilled to be neighbors and even more exci
 ted to get the opportunity to show off a little!\n\nThe Naughty Greek has 
 been cooking up an exclusive tasting menu to be paired with Dual Citizen b
 eers\, served on the patio\, transformed into an immersive communal dining
  experience.\nJoin us for small plates\, cold pours\, and a celebration of
  what it means to be good neighbors!\n\nTickets Available Here: https://ww
 w.eventbrite.com/e/naughty-citizen-dining-series-solstice-social-tickets-4
 6880017394
ATTACH;FMTTYPE=image/jpeg:https://www.mnbeer.com/wp-content/uploads/Header
 -wdate.jpg
CATEGORIES:Beer Dinner,Breweries,Foodie,Pairing
LOCATION:Dual Citizen Brewing Co.\, 725 Raymond AVe\, st. Paul\, mn\, 55114
 \, United States
GEO:44.9631668;-93.1978006
X-APPLE-STRUCTURED-LOCATION;VALUE=URI;X-ADDRESS=725 Raymond AVe\, st. Paul\
 , mn\, 55114\, United States;X-APPLE-RADIUS=100;X-TITLE=Dual Citizen Brewi
 ng Co.:geo:44.9631668,-93.1978006
END:VEVENT
END:VCALENDAR