BEGIN:VCALENDAR
VERSION:2.0
PRODID:-//wp-events-plugin.com//7.2.3.1//EN
BEGIN:VEVENT
UID:696@mnbeer.com
DTSTART:20140628T160000Z
DTEND:20140629T010000Z
DTSTAMP:20140522T163346Z
URL:https://www.mnbeer.com/events/third-street-brewhouse-2nd-year-annivers
 ary-party/
SUMMARY:Third Street Brewhouse 2nd Year Anniversary Party
DESCRIPTION:Live music\, food\, games &amp\; prizes ALL DAY!\n\nTours – 1
 2:00pm – 4:00pm\n\nLive music schedule:\n\n11:00am – 1:00pm – Shadow
  Driver\n\n1:30pm – 4:30pm – Justin &amp\; Jason Ploof of the Throwbac
 ks\n\n5:00pm- 8:00pm – The Honey Badgers\n\n&nbsp\;\n\nBean Bag Tourname
 nt starts @ 3:00pm\n\n2 person teams - $10/team with 100% payout\n\nSign u
 p in advance by calling 320.685.3690 or sign up the day of the event\n\n&n
 bsp\;\n\nShuttle from St. Cloud\n\nPick up &amp\; drop off with be at the 
 Boulder Tap House/Old Chicago parking lot\n\nPick times in St. Cloud:  11
 :00am and 4:30pm\n\nBus leaves Third Street Brewhouse @ 2:00pm and 8:00pm\
 n\n*Space is limited and will be available on a first come first serve bas
 is
ATTACH;FMTTYPE=image/jpeg:https://www.mnbeer.com/wp-content/uploads/mnbeer
 .png
CATEGORIES:Festival
LOCATION:Third Street Brewhouse\, 219 Red River Ave. N\, Cold Spring\, MN\,
  56320\, Central MN\, United States
GEO:45.4582466;-94.42904999999996
X-APPLE-STRUCTURED-LOCATION;VALUE=URI;X-ADDRESS=219 Red River Ave. N\, Cold
  Spring\, MN\, 56320\, Central MN\, United States;X-APPLE-RADIUS=100;X-TIT
 LE=Third Street Brewhouse:geo:45.4582466,-94.42904999999996
END:VEVENT
END:VCALENDAR