BEGIN:VCALENDAR
VERSION:2.0
PRODID:-//wp-events-plugin.com//7.2.3.1//EN
BEGIN:VEVENT
UID:698@mnbeer.com
DTSTART:20140530T050000Z
DTEND:20140531T030000Z
DTSTAMP:20140514T213638Z
URL:https://www.mnbeer.com/events/tiffanys-tap-room-shuttle-lift-bridge-to
 ur/
SUMMARY:Tiffany's Tap Room Shuttle Lift Bridge Tour
DESCRIPTION: \n Tiff's Tap Room - Lift Bridge - May 30th\, 2014\n\nCome Joi
 n Us May 30th for a Tap Room Tour of Lift Bridge Brewery in Stillwater. Bu
 y Tickets online at tiffanyssportslounge.com\n\nTickets are $25\n\nBus wil
 l leave from Tiffany Sports Lounge at 6pm and will be returning to the bar
  at approximately 10pm\n\nTicket includes: Finger Foods at Tiffanys Sports
  Lounge\, a 16oz pint of a Lift Bridge brew at Tiffs and the Lift Bridge B
 rewery's tap room\, samples of Lift Bridge beers on the Tiff's Shuttle and
  Transportation to and from the event. 
CATEGORIES:Tours
LOCATION:Tiffanys\, 2051 Ford Parkway\, St. Paul\, MN\, 55116\, United Stat
 es
GEO:44.9180644;-93.18684229999996
X-APPLE-STRUCTURED-LOCATION;VALUE=URI;X-ADDRESS=2051 Ford Parkway\, St. Pau
 l\, MN\, 55116\, United States;X-APPLE-RADIUS=100;X-TITLE=Tiffanys:geo:44.
 9180644,-93.18684229999996
END:VEVENT
END:VCALENDAR