BEGIN:VCALENDAR
VERSION:2.0
PRODID:-//wp-events-plugin.com//7.2.3.1//EN
BEGIN:VEVENT
UID:1933@mnbeer.com
DTSTART:20160929T050000Z
DTEND:20160929T050000Z
DTSTAMP:20160815T040450Z
URL:https://www.mnbeer.com/events/tin-whiskers-brew-off-vs-northgate-brewi
 ng/
SUMMARY:Tin Whiskers Brew-off vs. NorthGate Brewing
DESCRIPTION:Join us as we release our two beers in a blind taste test featu
 ring the 3 adjunct ingredients that YOU\, the people\, have voted on! Tell
  us which one is your favorite\, and determine who is the victor in our la
 test Brew-off!
CATEGORIES:Beer Release
LOCATION:Moto-i\, 2940 Lyndale Ave S\, Minneapolis\, MN\, 55408\, United St
 ates
GEO:44.948653;-93.28851099999997
X-APPLE-STRUCTURED-LOCATION;VALUE=URI;X-ADDRESS=2940 Lyndale Ave S\, Minnea
 polis\, MN\, 55408\, United States;X-APPLE-RADIUS=100;X-TITLE=Moto-i:geo:4
 4.948653,-93.28851099999997
END:VEVENT
END:VCALENDAR