BEGIN:VCALENDAR
VERSION:2.0
PRODID:-//wp-events-plugin.com//7.2.3.1//EN
BEGIN:VEVENT
UID:1912@mnbeer.com
DTSTART:20160831T050000Z
DTEND:20160831T050000Z
DTSTAMP:20160711T043649Z
URL:https://www.mnbeer.com/events/tin-whiskers-house-trivia-7-2016-08-31/
SUMMARY:Tin Whiskers House Trivia
DESCRIPTION:Join us weekly for house trivia! Beer is on the line\, so the s
 takes are high.
ATTACH;FMTTYPE=image/jpeg:https://www.mnbeer.com/wp-content/uploads/logo-b
 adge-darkbackground-1024x1024-Copy-4.png
CATEGORIES:Breweries
LOCATION:Tin Whiskers Brewing Company\, 125 East 9th Street\, Saint Paul\, 
 MN\, United States
GEO:44.9506615;-93.09361000000001
X-APPLE-STRUCTURED-LOCATION;VALUE=URI;X-ADDRESS=125 East 9th Street\, Saint
  Paul\, MN\, United States;X-APPLE-RADIUS=100;X-TITLE=Tin Whiskers Brewing
  Company:geo:44.9506615,-93.09361000000001
END:VEVENT
END:VCALENDAR