BEGIN:VCALENDAR
VERSION:2.0
PRODID:-//wp-events-plugin.com//7.2.3.1//EN
BEGIN:VEVENT
UID:1843@mnbeer.com
DTSTART:20160721T050000Z
DTEND:20160721T050000Z
DTSTAMP:20160607T214717Z
URL:https://www.mnbeer.com/events/tin-whiskers-nerd-night-5/
SUMMARY:Tin Whiskers Nerd Night
DESCRIPTION:Join for our monthly installment of Nerd Night\, to geek out wi
 th your friends on all things nerdy. Check out Facebook page for this mont
 hs topic: https://www.facebook.com/TinWhiskersBrewingCo/events
ATTACH;FMTTYPE=image/jpeg:https://www.mnbeer.com/wp-content/uploads/logo-b
 adge-darkbackground-1024x1024-Copy-3.png
CATEGORIES:Breweries
LOCATION:Tin Whiskers Brewing Company\, 125 East 9th Street\, Saint Paul\, 
 MN\, United States
GEO:44.9506615;-93.09361000000001
X-APPLE-STRUCTURED-LOCATION;VALUE=URI;X-ADDRESS=125 East 9th Street\, Saint
  Paul\, MN\, United States;X-APPLE-RADIUS=100;X-TITLE=Tin Whiskers Brewing
  Company:geo:44.9506615,-93.09361000000001
END:VEVENT
END:VCALENDAR